BEGIN:VCALENDAR
VERSION:2.0
PRODID:-//Mountain West Highland Dance Associaton - ECPv6.15.20//NONSGML v1.0//EN
CALSCALE:GREGORIAN
METHOD:PUBLISH
X-ORIGINAL-URL:https://mwhighlanddance.com
X-WR-CALDESC:Events for Mountain West Highland Dance Associaton
REFRESH-INTERVAL;VALUE=DURATION:PT1H
X-Robots-Tag:noindex
X-PUBLISHED-TTL:PT1H
BEGIN:VTIMEZONE
TZID:UTC
BEGIN:STANDARD
TZOFFSETFROM:+0000
TZOFFSETTO:+0000
TZNAME:UTC
DTSTART:20250101T000000
END:STANDARD
END:VTIMEZONE
BEGIN:VEVENT
DTSTART;VALUE=DATE:20260306
DTEND;VALUE=DATE:20260308
DTSTAMP:20260423T210800
CREATED:20260220T002909Z
LAST-MODIFIED:20260220T002909Z
UID:7890-1772755200-1772927999@mwhighlanddance.com
SUMMARY:Workshops With Diane Krugh
DESCRIPTION:Mountain West Highland Dance Association \nMedal Testing and Workshop \nwith Diane Krugh \nFRIDAY\, MARCH 6\, 2026 \nLocation: The Church of Jesus Christ of Latter Day Saints Gymnasium \n6695 South 2200 East\, West Jordan\nMember Testing \n1:00 – 4:00 pm \nPremier Workshop \n2026 National Dances \n4:30 – 6:30 pm \nSATURDAY\, MARCH 7\, 2026 \nLocation: The Church of Jesus Christ of Latter Day Saints Gymnasium \n3101 South 2300 East\, Salt Lake City \nBeginner and Novice Workshop \n8:30 – 10:30 am \n2026 Highland Championship Steps Workshop \n11:00 – 4:00 pm \nLunch break: 1:00 – 2:00 pm\nbox lunch available for pre-purchase
URL:https://mwhighlanddance.com/event/workshops-with-diane-krugh/
END:VEVENT
BEGIN:VEVENT
DTSTART;TZID=UTC:20260502T170000
DTEND;TZID=UTC:20260502T210000
DTSTAMP:20260423T210800
CREATED:20260219T012309Z
LAST-MODIFIED:20260220T001458Z
UID:7800-1777741200-1777755600@mwhighlanddance.com
SUMMARY:Kilted 5K Fun Run
DESCRIPTION:
URL:https://mwhighlanddance.com/event/kilted-5k-fun-run/
LOCATION:Wheeler Farm\, 6351 S 900 E\, Murray\, Utah\, 84121
END:VEVENT
BEGIN:VEVENT
DTSTART;VALUE=DATE:20260613
DTEND;VALUE=DATE:20260615
DTSTAMP:20260423T210800
CREATED:20260219T013051Z
LAST-MODIFIED:20260219T013051Z
UID:7810-1781308800-1781481599@mwhighlanddance.com
SUMMARY:Utah Scottish Festival Open Championship
DESCRIPTION:UTAH SCOTTISH FESTIVAL AND HIGHLAND GAMES \nJUNE 13-14\, 2026 \nUTAH SCOTTISH OPEN CHAMPIONSHIP & PRE-PREMIER COMPETITION \nUTAH STATE FAIR PARK \n155 North 1000 West\, Salt Lake City Utah\, 84116 \nJudges: Cheryl Kirby\, Kathleen Drummond\, Eleanor Belton \nPipers: TBD \nCompetition Organizers: Heather Overright & Kelsey Deklerk \n  \nRegister using the link below: \nhttps://tinyurl.com/yr3z7adm
URL:https://mwhighlanddance.com/event/utah-scottish-festival-open-championship/
LOCATION:Utah State Fairpark\, 155 1000 W\, Salt Lake City\, UT\, 84116\, United States
END:VEVENT
END:VCALENDAR