BEGIN:VCALENDAR
VERSION:2.0
PRODID:-//Mountain West Highland Dance Associaton - ECPv6.15.20//NONSGML v1.0//EN
CALSCALE:GREGORIAN
METHOD:PUBLISH
X-WR-CALNAME:Mountain West Highland Dance Associaton
X-ORIGINAL-URL:https://mwhighlanddance.com
X-WR-CALDESC:Events for Mountain West Highland Dance Associaton
REFRESH-INTERVAL;VALUE=DURATION:PT1H
X-Robots-Tag:noindex
X-PUBLISHED-TTL:PT1H
BEGIN:VTIMEZONE
TZID:UTC
BEGIN:STANDARD
TZOFFSETFROM:+0000
TZOFFSETTO:+0000
TZNAME:UTC
DTSTART:20180101T000000
END:STANDARD
END:VTIMEZONE
BEGIN:VTIMEZONE
TZID:America/Denver
BEGIN:DAYLIGHT
TZOFFSETFROM:-0700
TZOFFSETTO:-0600
TZNAME:MDT
DTSTART:20210314T090000
END:DAYLIGHT
BEGIN:STANDARD
TZOFFSETFROM:-0600
TZOFFSETTO:-0700
TZNAME:MST
DTSTART:20211107T080000
END:STANDARD
BEGIN:DAYLIGHT
TZOFFSETFROM:-0700
TZOFFSETTO:-0600
TZNAME:MDT
DTSTART:20220313T090000
END:DAYLIGHT
BEGIN:STANDARD
TZOFFSETFROM:-0600
TZOFFSETTO:-0700
TZNAME:MST
DTSTART:20221106T080000
END:STANDARD
BEGIN:DAYLIGHT
TZOFFSETFROM:-0700
TZOFFSETTO:-0600
TZNAME:MDT
DTSTART:20230312T090000
END:DAYLIGHT
BEGIN:STANDARD
TZOFFSETFROM:-0600
TZOFFSETTO:-0700
TZNAME:MST
DTSTART:20231105T080000
END:STANDARD
END:VTIMEZONE
BEGIN:VTIMEZONE
TZID:America/Denver
BEGIN:DAYLIGHT
TZOFFSETFROM:-0700
TZOFFSETTO:-0600
TZNAME:MDT
DTSTART:20180311T090000
END:DAYLIGHT
BEGIN:STANDARD
TZOFFSETFROM:-0600
TZOFFSETTO:-0700
TZNAME:MST
DTSTART:20181104T080000
END:STANDARD
BEGIN:DAYLIGHT
TZOFFSETFROM:-0700
TZOFFSETTO:-0600
TZNAME:MDT
DTSTART:20190310T090000
END:DAYLIGHT
BEGIN:STANDARD
TZOFFSETFROM:-0600
TZOFFSETTO:-0700
TZNAME:MST
DTSTART:20191103T080000
END:STANDARD
BEGIN:DAYLIGHT
TZOFFSETFROM:-0700
TZOFFSETTO:-0600
TZNAME:MDT
DTSTART:20200308T090000
END:DAYLIGHT
BEGIN:STANDARD
TZOFFSETFROM:-0600
TZOFFSETTO:-0700
TZNAME:MST
DTSTART:20201101T080000
END:STANDARD
END:VTIMEZONE
BEGIN:VEVENT
DTSTART;VALUE=DATE:20250613
DTEND;VALUE=DATE:20250616
DTSTAMP:20260423T235003
CREATED:20250131T203455Z
LAST-MODIFIED:20250222T144038Z
UID:7760-1749772800-1750031999@mwhighlanddance.com
SUMMARY:2025 Championship
DESCRIPTION:June 13-15\, 2025\nUtah State Fair Park\n115 North 1000 West\, Salt Lake City\, Utah \nRegistration opens Saturday\, February 22\, 2025 at 9:00 am MST. Online registration only. Register here: https://www.zeffy.com/en-US/ticketing/utah-scottish-open-championship-and-pre-premier-competition
URL:https://mwhighlanddance.com/event/2025-championship/
LOCATION:Utah State Fairpark\, 155 1000 W\, Salt Lake City\, UT\, 84116\, United States
END:VEVENT
BEGIN:VEVENT
DTSTART;TZID=UTC:20250329T080000
DTEND;TZID=UTC:20250329T170000
DTSTAMP:20260423T235003
CREATED:20250131T204848Z
LAST-MODIFIED:20250131T205430Z
UID:7762-1743235200-1743267600@mwhighlanddance.com
SUMMARY:MWHDA Spring 2025 Competition
DESCRIPTION:SCOTDANCE USNW-0323\nJudge: Anne Donlan\, Castle Rock\, Colorado \nAdvance registration is necessary. Registration will open on February 1\, 2025 at 9:00 am MST. Entries close at 11:59 pm MST on March 17\, 2025. \nCOMPETITIVE EVENTS\nPrimary: Pas De Basque\, Pas De Basque and High Cuts\, Fling (4)\, Sword (2&1)\nBeginner: Fling (4)\, Sword (2&1)\, Seann Triubhas (3&1)\, Scottish Lilt (4)\nNovice: Fling (4)\, Sword (2&1)\, Seann Triubhas (3&1)\, Flora (4)\nIntermediate: Fling (4)\, Sword (2&1)\, Seann Triubhas (3&1)\, Strathspey & Highland Reel\nPremier 7&U12: Fling (4)\, Sword (2&1)\, Seann Triubhas (3&1)\, Strathspey & Highland Reel\nPremier 12&Over: Fling (6)\, Sword (2&2)\, Seann Triubhas (4&2)\, Strathspey & Highland Reel\nGroup Choreography: Not restricted by category or age.
URL:https://mwhighlanddance.com/event/mwhda-spring-2025-competition/
LOCATION:Summit Academy\, Draper\, Utah\, United States
END:VEVENT
BEGIN:VEVENT
DTSTART;TZID=UTC:20240217T130000
DTEND;TZID=UTC:20240217T170000
DTSTAMP:20260423T235003
CREATED:20240127T175157Z
LAST-MODIFIED:20240127T175157Z
UID:7733-1708174800-1708189200@mwhighlanddance.com
SUMMARY:Intermediate/Premier Workshop
DESCRIPTION:Join us for the Intermediate/Premier Workshop with Diane Krugh! \n2024 Set Championship and Premiership Steps \nPlease use the website link below to register.
URL:https://mwhighlanddance.com/event/intermediate-premier-workshop/
LOCATION:LDS Church\, 3101 South 2300 East\, Salt Lake City\, UT\, 84109\, United States
END:VEVENT
BEGIN:VEVENT
DTSTART;TZID=UTC:20240217T093000
DTEND;TZID=UTC:20240217T120000
DTSTAMP:20260423T235003
CREATED:20240127T174854Z
LAST-MODIFIED:20240127T174854Z
UID:7728-1708162200-1708171200@mwhighlanddance.com
SUMMARY:Beginner/Novice Workshop
DESCRIPTION:Join us for the Beginner/Novice Workshop with Diane Krugh! \nPlease use the website link below to register.
URL:https://mwhighlanddance.com/event/beginner-novice-workshop/
LOCATION:LDS Church\, 3101 South 2300 East\, Salt Lake City\, UT\, 84109\, United States
END:VEVENT
BEGIN:VEVENT
DTSTART;VALUE=DATE:20230520
DTEND;VALUE=DATE:20230521
DTSTAMP:20260423T235003
CREATED:20230115T213825Z
LAST-MODIFIED:20230115T213858Z
UID:7675-1684540800-1684627199@mwhighlanddance.com
SUMMARY:(NW) Region Closed Championships & Pre-Premier Competition
DESCRIPTION:Additional details will be posted as they become available.
URL:https://mwhighlanddance.com/event/nw-region-closed-championships-pre-premier-competition/
LOCATION:SHOREWOOD HIGH SCHOOL\, SHOREWOOD HIGH SCHOOL 17300 FREMONT AVENUE\, NORTHSHORELINE\, WA\, 98133\, United States
ORGANIZER;CN="FUSTA Northwest Region":MAILTO:fustanorthwest@gmail.com
END:VEVENT
BEGIN:VEVENT
DTSTART;VALUE=DATE:20230311
DTEND;VALUE=DATE:20230312
DTSTAMP:20260423T235003
CREATED:20230107T184429Z
LAST-MODIFIED:20230107T184429Z
UID:7645-1678492800-1678579199@mwhighlanddance.com
SUMMARY:Portland Highland Dancing Association Winter Indoor Competition & Bonnie MacKenzie Memorial Solo Choreography Competition
DESCRIPTION:
URL:https://mwhighlanddance.com/event/portland-highland-dancing-association-winter-indoor-competition-bonnie-mackenzie-memorial-solo-choreography-competition/
LOCATION:WESTMINSTER PRESBYTERIAN CHURCH\, 1624 NORTHEAST HANCOCK STREET\, Portland\, OR\, 97212\, United States
END:VEVENT
BEGIN:VEVENT
DTSTART;VALUE=DATE:20230224
DTEND;VALUE=DATE:20230226
DTSTAMP:20260423T235003
CREATED:20230107T201227Z
LAST-MODIFIED:20230107T201227Z
UID:7655-1677196800-1677369599@mwhighlanddance.com
SUMMARY:MWHDA Medal Testing
DESCRIPTION:On the last weekend of February\, the Mountain West Highland Dance Association will be hosting the annual medal testing. Dancers will have the opportunity to partake in any of the below medal testing options. \nPlease work with your teacher to determine which tests you should take. \n\n\n\nType\nHighland\nNational\nTheory\nJig\nHornpipe\n\n\nTest\nFirst Steps\nPre-Bronze\nGrade Level 1\nPre-Bronze\nPre-Bronze\n\n\nPre-Bronze\nBronze\nGrade Level 2\nBronze\nBronze\n\n\nBronze\nSilver\nGrade Level 3\nSilver\nSilver\n\n\nSilver\nGold\nGrade Level 4\nGold\nGold\n\n\nPre-Gold\nBlue Riband\nGrade Level 5\nBlue Riband\nBlue Riband\n\n\nGold\nFirst Award\nAssociate Teacher\nFirst Award\nFirst Award\n\n\nBlue Riband\nBritish Medalion\nMember Teacher\nSecond Award\nSecond Award\n\n\nBritish Medalian\nSecond Award\n\nThird Award\nThird Award\n\n\nBritish Award\nBritish Award\n\n\n\n\n\nPremier Award\nThird Award\n\n\n\n\n\nAnnual Award\nPremier Award\n\n\n\n\n\n\nAnnual Award\n\n\n\n\n\n\n 
URL:https://mwhighlanddance.com/event/mwhda-medal-testing/
END:VEVENT
BEGIN:VEVENT
DTSTART;VALUE=DATE:20230204
DTEND;VALUE=DATE:20230205
DTSTAMP:20260423T235003
CREATED:20230107T183910Z
LAST-MODIFIED:20230107T183910Z
UID:7641-1675468800-1675555199@mwhighlanddance.com
SUMMARY:Seattle Highland Dancing Association Winter Competition
DESCRIPTION:
URL:https://mwhighlanddance.com/event/seattle-highland-dancing-association-winter-competition/
LOCATION:SHOREWOOD HIGH SCHOOL\, SHOREWOOD HIGH SCHOOL 17300 FREMONT AVENUE\, NORTHSHORELINE\, WA\, 98133\, United States
END:VEVENT
BEGIN:VEVENT
DTSTART;TZID=UTC:20220713T080000
DTEND;TZID=UTC:20220717T170000
DTSTAMP:20260423T235003
CREATED:20220308T214740Z
LAST-MODIFIED:20220308T214740Z
UID:7614-1657699200-1658077200@mwhighlanddance.com
SUMMARY:USIR National Championships
DESCRIPTION:
URL:https://mwhighlanddance.com/event/usir-national-championships/
END:VEVENT
BEGIN:VEVENT
DTSTART;VALUE=DATE:20220521
DTEND;VALUE=DATE:20220522
DTSTAMP:20260423T235003
CREATED:20220308T214623Z
LAST-MODIFIED:20220308T214623Z
UID:7611-1653091200-1653177599@mwhighlanddance.com
SUMMARY:Northwest Regional Closed Championship
DESCRIPTION:There will be a pre-premier competition in the afternoon\, provided there is enough interest! \nDancer Registration – Closes 11:59 PM on April 21\, 2022 PDT\nSponsorships – Due by 11:59 PM on April 23\, 2022 PDT\nGood Luck Ads – Due by 11:59 PM on April 23\, 2022 PDT
URL:https://mwhighlanddance.com/event/northwest-regional-closed-championship/
LOCATION:Valley Community Presbyterian Church\, 8060 SOUTHWEST BRENTWOOD STREET\, Portland\, OR\, United States
ORGANIZER;CN="FUSTA Northwest Region":MAILTO:fustanorthwest@gmail.com
END:VEVENT
BEGIN:VEVENT
DTSTART;VALUE=DATE:20220409
DTEND;VALUE=DATE:20220410
DTSTAMP:20260423T235003
CREATED:20220308T213307Z
LAST-MODIFIED:20220308T214818Z
UID:7608-1649462400-1649548799@mwhighlanddance.com
SUMMARY:Las Vegas Highland Games
DESCRIPTION:
URL:https://mwhighlanddance.com/event/las-vegas-highland-games/
END:VEVENT
BEGIN:VEVENT
DTSTART;VALUE=DATE:20220227
DTEND;VALUE=DATE:20220228
DTSTAMP:20260423T235003
CREATED:20220214T190457Z
LAST-MODIFIED:20220214T190457Z
UID:7606-1645920000-1646006399@mwhighlanddance.com
SUMMARY:MWHDA Intermediate and Premier Workshop
DESCRIPTION:
URL:https://mwhighlanddance.com/event/mwhda-intermediate-and-premier-workshop/
LOCATION:Legacy Preparatory Academy\, 2214 S 1250 W\, Woods Cross\, 84087\, United States
END:VEVENT
BEGIN:VEVENT
DTSTART;VALUE=DATE:20210417
DTEND;VALUE=DATE:20210419
DTSTAMP:20260423T235003
CREATED:20190224T114507Z
LAST-MODIFIED:20200108T235523Z
UID:7451-1618617600-1618790399@mwhighlanddance.com
SUMMARY:Redstone Games 2020
DESCRIPTION:[vc_row padding_top_multiplier=”3x” padding_bottom_multiplier=””][vc_column text_align=”center”]Redstone Highland Games & Festival[/vc_column][vc_column]  [/vc_column][/vc_row]
URL:https://mwhighlanddance.com/event/scots-on-the-rocks-2019-3-2/
LOCATION:Sandtown Park\, 649 North 600 West\, St. George\, UT\, 84770\, United States
ATTACH;FMTTYPE=image/png:https://mwhighlanddance.com/wp-content/uploads/2019/02/stgeorge2.png
ORGANIZER;CN="Redstone Highland Games & Festival":MAILTO:dwr.redstonehighlandgames@gmail.com
END:VEVENT
BEGIN:VEVENT
DTSTART;VALUE=DATE:20201106
DTEND;VALUE=DATE:20201109
DTSTAMP:20260423T235003
CREATED:20190224T114507Z
LAST-MODIFIED:20200108T233032Z
UID:7447-1604620800-1604879999@mwhighlanddance.com
SUMMARY:Scots on the Rocks 2020
DESCRIPTION:[vc_row padding_top_multiplier=”3x” padding_bottom_multiplier=””][vc_column text_align=”center”]SCOTS ON THE ROCKS[/vc_column][vc_column]  [/vc_column][/vc_row]
URL:https://mwhighlanddance.com/event/scots-on-the-rocks-2019-3/
LOCATION:Old Spanish Trail Arena\, 3641 S. Highway 191\, Moab\, UT\, 84532\, United States
ATTACH;FMTTYPE=image/jpeg:https://mwhighlanddance.com/wp-content/uploads/2019/02/Moab.jpg
ORGANIZER;CN="Scots on the Rocks":MAILTO:moabcelticfestival@gmail.com
END:VEVENT
BEGIN:VEVENT
DTSTART;VALUE=DATE:20200710
DTEND;VALUE=DATE:20200712
DTSTAMP:20260423T235003
CREATED:20190224T124025Z
LAST-MODIFIED:20200109T002040Z
UID:7460-1594339200-1594511999@mwhighlanddance.com
SUMMARY:Payson Scottish Festival 2020
DESCRIPTION:[vc_row][vc_column]Payson Scottish Festival 2020[/vc_column][vc_column]  [/vc_column][/vc_row]
URL:https://mwhighlanddance.com/event/payson-2019-2/
LOCATION:Payson City Park\, 250 S Main St\, Payson\, UT\, 84651\, United States
ATTACH;FMTTYPE=image/jpeg:https://mwhighlanddance.com/wp-content/uploads/2019/02/Payson.jpg
END:VEVENT
BEGIN:VEVENT
DTSTART;VALUE=DATE:20200612
DTEND;VALUE=DATE:20200615
DTSTAMP:20260423T235003
CREATED:20190224T124114Z
LAST-MODIFIED:20200109T002433Z
UID:7463-1591920000-1592179199@mwhighlanddance.com
SUMMARY:Utah Scottish Festival & Highland Games 2020
DESCRIPTION:[vc_row padding_top_multiplier=”3x” padding_bottom_multiplier=””][vc_column text_align=”center”]UTAH SCOTTISH FESTIVAL & HIGHLAND GAMES 2020[/vc_column][vc_column]  [/vc_column][/vc_row]
URL:https://mwhighlanddance.com/event/utah-scottish-festival-2019-2/
LOCATION:Utah State Fairpark\, 155 1000 W\, Salt Lake City\, UT\, 84116\, United States
ATTACH;FMTTYPE=image/jpeg:https://mwhighlanddance.com/wp-content/uploads/2018/10/Salt-Lake-Scottish-Festival-big.jpg
END:VEVENT
BEGIN:VEVENT
DTSTART;TZID=UTC:20200222T090000
DTEND;TZID=UTC:20200222T160000
DTSTAMP:20260423T235003
CREATED:20190224T114507Z
LAST-MODIFIED:20200205T045014Z
UID:7472-1582362000-1582387200@mwhighlanddance.com
SUMMARY:Workshop February 22
DESCRIPTION:[vc_row padding_top_multiplier=”” padding_bottom_multiplier=””][vc_column text_align=”center”]\n\n\n\nMWHDA Workshop\n\n\n\n[/vc_column][vc_column][vc_row_inner][vc_column_inner width=”1/2″]  [/vc_column_inner][vc_column_inner width=”1/2″ rc_bg_type=”color” rc_bg_color=”#f2f2f2″ css=”.vc_custom_1579146398777{padding: 20px !important;}”][vc_column_text] \n\n\n\nInstructor-Diane Krugh-Houston Texas\nIntermediate-Premier Dancers 9.00am – 1:00 pm\n(2020 Championship Steps)\nMWHDA Members $35 (Non Members $70) \nBeginner-Novice Dancers 2:00pm – 4.00 pm\nMWHDA Members $25 (Non Members $50) \nDeadline to Register: 02/14\nComplete online payment and registration form below. \nMedal Testing\n\nMedal testing will also be available at legacy preparatory academy on Saturday after the workshop and Sunday Feb 23.\nMedal test slots will be scheduled once we know how many dancers will be participating in medal testing.\nDancers and parents please work directly with your teacher on what medal tests your dancers are ready for.\n\n\n\n\n[/vc_column_text][/vc_column_inner][/vc_row_inner][/vc_column][/vc_row][vc_row padding_top_multiplier=”” padding_bottom_multiplier=””][vc_column]\nWorkshop Registration\n[vc_column_text]Part 1: Complete and submit the participant information form. \nPart 2: Submit payment for the workshops you’d like to attend.[/vc_column_text][/vc_column][/vc_row][vc_row][vc_column width=”1/4″][vc_column_text] \nPart 1\nParticipant Information[/vc_column_text][/vc_column][vc_column width=”3/4″]\n\n  \n\n\n\n\n	\n		\n			 First Name (required)\n \n			 \n		\n		\n			 Last Name (required)\n \n			 \n		\n		\n			 Your Email (required)\n \n			 \n		\n		\n			 Cell Number\n \n			 \n		\n		\n			 Street Address\n \n			 \n		\n		\n			 City\n \n			 \n		\n		\n			 State\n \n			 \n		\n		\n			 Zip Code\n \n			 \n		\n		\n			Dancer Level:\n			 \n		\n		\n			MWHDA Member:\n			 \n		\n		\n			Beginner\, NoviceIntermediate\, Premier\n			 \n		\n		\n			YESNO\n			 \n		\n		\n			 Dance Teacher\n \n			 \n		\n		\n			\n			 \n		\n	\nΔ \n\n\n[/vc_column][/vc_row][vc_row][vc_column][vc_column_text] \nPart 2\nSubmit Payment[/vc_column_text][/vc_column][/vc_row][vc_row][vc_column width=”1/2″ content_width=”75″][vc_column_text]Highland Championship Steps[/vc_column_text][vc_row_inner padding_top_multiplier=”” padding_bottom_multiplier=””][vc_column_inner width=”1/2″][vc_column_text]Member $35\n[/vc_column_text][/vc_column_inner][vc_column_inner width=”1/2″][vc_column_text]Non-member $70\n[/vc_column_text][/vc_column_inner][/vc_row_inner][vc_column_text] \n\nHighland Pre-Premier[/vc_column_text][vc_row_inner padding_top_multiplier=”” padding_bottom_multiplier=””][vc_column_inner width=”1/2″][vc_column_text]Member $25 \n[/vc_column_text][/vc_column_inner][vc_column_inner width=”1/2″][vc_column_text]Non-member $50\n[/vc_column_text][/vc_column_inner][/vc_row_inner][vc_column_text] \n\nTeacher Observation[/vc_column_text][vc_row_inner padding_top_multiplier=”” padding_bottom_multiplier=””][vc_column_inner width=”1/2″][vc_column_text]Member FREE [/vc_column_text][/vc_column_inner][vc_column_inner width=”1/2″][vc_column_text]Non-member $35\n[/vc_column_text][/vc_column_inner][/vc_row_inner][/vc_column][vc_column width=”1/2″ rc_bg_type=”color” css=”.vc_custom_1579155637107{padding-top: 20px !important;padding-right: 20px !important;padding-bottom: 20px !important;padding-left: 20px !important;}” rc_bg_color=”#f2f2f2″ el_id=”checkoutPage”][vc_column_text][/vc_column_text][/vc_column][/vc_row]
URL:https://mwhighlanddance.com/event/mwhda-workshop/
LOCATION:Legacy Preparatory Academy\, 2214 S 1250 W\, Woods Cross\, 84087\, United States
ATTACH;FMTTYPE=image/jpeg:https://mwhighlanddance.com/wp-content/uploads/2019/03/IMG_2094.jpg
END:VEVENT
BEGIN:VEVENT
DTSTART;VALUE=DATE:20191101
DTEND;VALUE=DATE:20191104
DTSTAMP:20260423T235003
CREATED:20190224T114507Z
LAST-MODIFIED:20190505T205509Z
UID:6092-1572566400-1572825599@mwhighlanddance.com
SUMMARY:Scots on the Rocks Dance Competition
DESCRIPTION:[vc_row padding_top_multiplier=”3x” padding_bottom_multiplier=””][vc_column text_align=”center”]SCOTS ON THE ROCKS[/vc_column][vc_column]  [/vc_column][/vc_row][vc_row][vc_column][vc_column_text] \n\n  \n\n  \n\n[/vc_column_text][/vc_column][/vc_row]
URL:https://mwhighlanddance.com/event/scots-on-the-rocks-2019/
LOCATION:Old Spanish Trail Arena\, 3641 S. Highway 191\, Moab\, UT\, 84532\, United States
ATTACH;FMTTYPE=image/jpeg:https://mwhighlanddance.com/wp-content/uploads/2019/02/Moab.jpg
ORGANIZER;CN="Scots on the Rocks":MAILTO:moabcelticfestival@gmail.com
END:VEVENT
BEGIN:VEVENT
DTSTART;VALUE=DATE:20191026
DTEND;VALUE=DATE:20191027
DTSTAMP:20260423T235003
CREATED:20190224T114507Z
LAST-MODIFIED:20190915T225112Z
UID:6088-1572048000-1572134399@mwhighlanddance.com
SUMMARY:Salt Lake City Indoor Dance Competition
DESCRIPTION:[vc_row padding_top_multiplier=”3x” padding_bottom_multiplier=””][vc_column]Salt Lake City Indoor Dance Competition[/vc_column][vc_column]  [/vc_column][/vc_row][vc_row][vc_column width=”1/2″][vc_column_text] \nHighland Dance Entry From\nDownload Dance Entry Form \nSponsorship\nPlease consider a sponsorship for medals and trophies. These donations help us with the expense of running competitions and workshops. \nDownload Sponsorships Form[/vc_column_text][/vc_column][vc_column width=”1/2″][vc_column_text] \nHighland Dance Set Step Lecture/Workshop\nFor teachers and premier dancers. \n\nDATE: SUNDAY OCTOBER 27 2019 at 9:00AM\nHeather Glen Dance Studio 12722 S.\nVerona Creek Way Riverton\, UT\nInstructor-Andrea Tronnes-Houston Texas\nMWHDA Members – Teachers and Premier Dancers:$30\nNon-Members – Teachers and Premier Dancers $60\n\nDownload Highland Set Step Registration Form[/vc_column_text][/vc_column][/vc_row]
URL:https://mwhighlanddance.com/event/salt-lake-indoor-2019/
LOCATION:First Presbyterian Church of Salt Lake City\, 12 C Street East\, Salt Lake City\, UT\, 84103\, United States
ATTACH;FMTTYPE=image/jpeg:https://mwhighlanddance.com/wp-content/uploads/2018/10/First-Presbyterian.jpg
END:VEVENT
BEGIN:VEVENT
DTSTART;TZID=UTC:20190914T170000
DTEND;TZID=UTC:20190914T190000
DTSTAMP:20260423T235003
CREATED:20190821T170007Z
LAST-MODIFIED:20190822T211023Z
UID:7237-1568480400-1568487600@mwhighlanddance.com
SUMMARY:MWHDA Annual General Meeting (AGM)
DESCRIPTION:[vc_row padding_top_multiplier=”3x” padding_bottom_multiplier=””][vc_column text_align=”center”]\nMWHDA 2019 AGM\n[/vc_column][vc_column]  [/vc_column][/vc_row][vc_row][vc_column][vc_column_text] \nSaturday\, September 14\, 2019\n\n5-6 PM – AGM: Come vote on issues and have a voice on the running of the MWHDA. All current members may vote – you can join or renew on the day.\n6-7 PM – Dinner & Performance: Performances by MWHDA Dancers. Food and Drinks will be Provided.\n\n[/vc_column_text]Download Flyer[/vc_column][/vc_row]
URL:https://mwhighlanddance.com/event/scots-on-the-rocks-2019-2/
LOCATION:Bluffdale Park and Pavilion\, 2400 14400 S\, Bluffdale\, UT\, 84065\, United States
ATTACH;FMTTYPE=image/jpeg:https://mwhighlanddance.com/wp-content/uploads/2019/08/agm2019-3.jpg
END:VEVENT
BEGIN:VEVENT
DTSTART;VALUE=DATE:20190717
DTEND;VALUE=DATE:20190722
DTSTAMP:20260423T235003
CREATED:20190407T074507Z
LAST-MODIFIED:20190505T205426Z
UID:6871-1563321600-1563753599@mwhighlanddance.com
SUMMARY:USIR 2019: “Win Gold” in Las Vegas\, Nevada
DESCRIPTION:[vc_row padding_top_multiplier=”3x” padding_bottom_multiplier=””][vc_column text_align=”center”]USIR 2019 – LAS VEGAS\, NEVADA[/vc_column][vc_column]  [/vc_column][/vc_row]
URL:https://mwhighlanddance.com/event/usir-2019-win-gold-in-las-vegas-nevada/
LOCATION:Green Valley Ranch Resort and Spa\, 2300 Paseo Verde Pkwy\, Henderson\, NV\, 89052\, United States
ATTACH;FMTTYPE=image/jpeg:https://mwhighlanddance.com/wp-content/uploads/2019/07/USIR2019.jpg
END:VEVENT
BEGIN:VEVENT
DTSTART;VALUE=DATE:20190713
DTEND;VALUE=DATE:20190714
DTSTAMP:20260423T235003
CREATED:20190224T124025Z
LAST-MODIFIED:20190505T205328Z
UID:81-1562976000-1563062399@mwhighlanddance.com
SUMMARY:Payson Scottish Festival
DESCRIPTION:[vc_row][vc_column]Payson Scottish Festival Dance Competition[/vc_column][vc_column]  [/vc_column][/vc_row]
URL:https://mwhighlanddance.com/event/payson-2019/
LOCATION:Payson City Park\, 250 S Main St\, Payson\, UT\, 84651\, United States
ATTACH;FMTTYPE=image/jpeg:https://mwhighlanddance.com/wp-content/uploads/2019/02/Payson.jpg
END:VEVENT
BEGIN:VEVENT
DTSTART;VALUE=DATE:20190608
DTEND;VALUE=DATE:20190609
DTSTAMP:20260423T235003
CREATED:20190224T124114Z
LAST-MODIFIED:20190505T205244Z
UID:84-1559952000-1560038399@mwhighlanddance.com
SUMMARY:Utah Scottish Festival & Highland Games
DESCRIPTION:[vc_row padding_top_multiplier=”3x” padding_bottom_multiplier=””][vc_column text_align=”center”]UTAH SCOTTISH FESTIVAL & HIGHLAND GAMES[/vc_column][vc_column]  [/vc_column][/vc_row]
URL:https://mwhighlanddance.com/event/utah-scottish-festival-2019/
LOCATION:Utah State Fairpark\, 155 1000 W\, Salt Lake City\, UT\, 84116\, United States
ATTACH;FMTTYPE=image/jpeg:https://mwhighlanddance.com/wp-content/uploads/2018/10/Salt-Lake-Scottish-Festival-big.jpg
END:VEVENT
BEGIN:VEVENT
DTSTART;TZID=America/Denver:20190518T151500
DTEND;TZID=America/Denver:20190518T161500
DTSTAMP:20260423T235003
CREATED:20190224T124114Z
LAST-MODIFIED:20190505T204608Z
UID:6885-1558192500-1558196100@mwhighlanddance.com
SUMMARY:Performance - Living Traditions Festival
DESCRIPTION:[vc_row padding_top_multiplier=”3x” padding_bottom_multiplier=””][vc_column text_align=”center”]Living Traditions Festival[/vc_column][vc_column]  [/vc_column][/vc_row]
URL:https://mwhighlanddance.com/event/performance-living-traditions-festival/
LOCATION:Library Square\, 210 E 400 S\, Salt Lake City\, UT\, 84111\, United States
ATTACH;FMTTYPE=image/jpeg:https://mwhighlanddance.com/wp-content/uploads/2019/02/living-traditions.jpg
END:VEVENT
BEGIN:VEVENT
DTSTART;VALUE=DATE:20190511
DTEND;VALUE=DATE:20190512
DTSTAMP:20260423T235003
CREATED:20190224T114507Z
LAST-MODIFIED:20190505T203735Z
UID:75-1557532800-1557619199@mwhighlanddance.com
SUMMARY:NW Regional Closed Championship
DESCRIPTION:[vc_row padding_top_multiplier=”3x” padding_bottom_multiplier=””][vc_column text_align=”center”]NW REGIONAL CLOSED CHAMPIONSHIP[/vc_column][/vc_row][vc_row][vc_column width=”1/2″]  [vc_row_inner padding_top_multiplier=”” padding_bottom_multiplier=””][vc_column_inner width=”1/2″]  [/vc_column_inner][vc_column_inner width=”1/2″]  [/vc_column_inner][/vc_row_inner][vc_column_text text_style=”leader-text”] \nMWHDA t-shirts will be on sale for $20 Each\nDrinks and Snacks will also be on sale.\n[/vc_column_text][/vc_column][vc_column width=”1/2″]General Information[vc_column_text] \n\n Dancing at the NW Regional Closed Championship will begin at 10:00 am for all dancers.\n\nThe Highland Fling will be danced first from the youngest to oldest age groups followed by the Sword and Seann Triubhas.  The Reels may be danced out of age group order if necessary to accommodate fill-ins. \n\n\nThe order of dance for the Highland Fling\, Sword and Seann Triubhas will be determined by a separate draw for each dance in age groups with seven (7) or more entered. \n\n\nThe “first to enter last to dance rule” will apply only for the Reel. \n\n\nThe draw will be conducted by the NW Region of FUSTA. \n\n\nDraw positions will be emailed to dancers and teachers no later than Wednesday\, May 8\, 2019. \n\n\nShould a competitor withdraw after May 8\, dancers in the affected class will move up one spot in the order of dance.  Teachers of competitors whose order of dance has changed will be emailed a revised order of dance and will be asked to relay the information. \n\n\nCompetitors’ numbers will be at Dancer Check-In. \n\n\nSpectator Admission fee is $10.00 for all day.  Children under 5 are free. Tickets will be sold at the event (cash only) as well as online in advance. \n\n\n[/vc_column_text][/vc_column][/vc_row]
URL:https://mwhighlanddance.com/event/nw-regional-closed-championship-2019/
LOCATION:Hillcrest Junior High School\, 178 East 5300 South\, Murray\, UT\, 84107\, United States
ATTACH;FMTTYPE=image/jpeg:https://mwhighlanddance.com/wp-content/uploads/2018/10/Hillcrest-JR-High.jpg
ORGANIZER;CN="FUSTA Northwest Region":MAILTO:fustanorthwest@gmail.com
END:VEVENT
BEGIN:VEVENT
DTSTART;VALUE=DATE:20190413
DTEND;VALUE=DATE:20190415
DTSTAMP:20260423T235003
CREATED:20190224T124025Z
LAST-MODIFIED:20190408T042853Z
UID:6878-1555113600-1555286399@mwhighlanddance.com
SUMMARY:Las Vegas Highland games
DESCRIPTION:[vc_row][vc_column]Las Vegas Highland Games Dance Competition[/vc_column][vc_column]  [/vc_column][/vc_row]
URL:https://mwhighlanddance.com/event/lv-highland-games/
LOCATION:Flloyd Lamb State Park\, 9200 Tule Springs Rd\, Las Vegas\, NV\, 89131\, United States
ATTACH;FMTTYPE=image/jpeg:https://mwhighlanddance.com/wp-content/uploads/2019/02/lv-highland-games.jpg
END:VEVENT
BEGIN:VEVENT
DTSTART;VALUE=DATE:20190315
DTEND;VALUE=DATE:20190318
DTSTAMP:20260423T235003
CREATED:20190224T114507Z
LAST-MODIFIED:20190307T174127Z
UID:6346-1552608000-1552867199@mwhighlanddance.com
SUMMARY:MWHDA Workshop and Medal Testing
DESCRIPTION:[vc_row padding_top_multiplier=”3x” padding_bottom_multiplier=””][vc_column]Salt Lake City Indoor Dance Competition[/vc_column][vc_column]  [/vc_column][/vc_row][vc_row][vc_column width=”1/2″][vc_column_text] \n\n\n\nDance Workshop\nInstructor: Diane Krugh of Houston Texas\nIntermediate to Premier Dancers 9.00 am – 12:30 pm\n(2019 Championship Steps) \n\nMWHDA Members $30\nNon Members $60\n\nBeginner-Novice Dancers 1:30 pm – 3.30 pm  \n\nMWHDA Members $20\nNon Members $40\n\n\n\n\n[/vc_column_text][/vc_column][vc_column width=”1/2″][vc_column_text] \nMedal Testing\nMedal test slots will be scheduled once we know how many dancers will be participating in medal testing. \nDancers and parents\, please work directly with your teacher on what medal tests your dancers are ready for. \nTesting Days: \n\nSaturday after the workshop\nFriday the 15th\nSunday the 17th\n\nSaturday/Sunday Medal testing will take place at:\nHeather Glen School of Highland Dance\n12722 S. Verona Creek Way\nRiverton\, Utah 84065[/vc_column_text][/vc_column][/vc_row]
URL:https://mwhighlanddance.com/event/mwhda-workshop-2019/
LOCATION:Legacy Preparatory Academy\, 2214 S 1250 W\, Woods Cross\, 84087\, United States
ATTACH;FMTTYPE=image/jpeg:https://mwhighlanddance.com/wp-content/uploads/2018/10/medal-testing.jpg
END:VEVENT
END:VCALENDAR